BEGIN:VCALENDAR
VERSION:2.0
PRODID:-//Escuela de Ingeniería - UAGRM - ECPv6.15.20//NONSGML v1.0//EN
CALSCALE:GREGORIAN
METHOD:PUBLISH
X-WR-CALNAME:Escuela de Ingeniería - UAGRM
X-ORIGINAL-URL:https://ei-uagrm.edu.bo
X-WR-CALDESC:Eventos para Escuela de Ingeniería - UAGRM
REFRESH-INTERVAL;VALUE=DURATION:PT1H
X-Robots-Tag:noindex
X-PUBLISHED-TTL:PT1H
BEGIN:VTIMEZONE
TZID:America/Halifax
BEGIN:DAYLIGHT
TZOFFSETFROM:-0400
TZOFFSETTO:-0300
TZNAME:ADT
DTSTART:20220313T060000
END:DAYLIGHT
BEGIN:STANDARD
TZOFFSETFROM:-0300
TZOFFSETTO:-0400
TZNAME:AST
DTSTART:20221106T050000
END:STANDARD
BEGIN:DAYLIGHT
TZOFFSETFROM:-0400
TZOFFSETTO:-0300
TZNAME:ADT
DTSTART:20230312T060000
END:DAYLIGHT
BEGIN:STANDARD
TZOFFSETFROM:-0300
TZOFFSETTO:-0400
TZNAME:AST
DTSTART:20231105T050000
END:STANDARD
BEGIN:DAYLIGHT
TZOFFSETFROM:-0400
TZOFFSETTO:-0300
TZNAME:ADT
DTSTART:20240310T060000
END:DAYLIGHT
BEGIN:STANDARD
TZOFFSETFROM:-0300
TZOFFSETTO:-0400
TZNAME:AST
DTSTART:20241103T050000
END:STANDARD
END:VTIMEZONE
BEGIN:VEVENT
DTSTART;TZID=America/Halifax:20231005T170000
DTEND;TZID=America/Halifax:20231005T180000
DTSTAMP:20260421T100649
CREATED:20231003T155603Z
LAST-MODIFIED:20231003T155713Z
UID:6809-1696525200-1696528800@ei-uagrm.edu.bo
SUMMARY:Evaluación cualitativa y cuantitativa del grado de vulnerabilidad sísmica\, en un edificio de trece niveles poniendo en consideración tres distintos tipos de arriostre en las fundaciones
DESCRIPTION:Tema de tesis: Evaluación cualitativa y cuantitativa del grado de vulnerabilidad sísmica\, en un edificio de trece niveles poniendo en consideración tres distintos tipos de arriostre en las fundaciones \nPostgraduante: Boris Percy Rocabado Quisberth \nMaestría: Ingeniería de Estructuras \nHora: 17:00 \nLugar:  Escuela de Ingeniería Aula 8
URL:https://ei-uagrm.edu.bo/evento/defensadetesis5-10/
LOCATION:Aula 8 – Escuela de Ingeniería
CATEGORIES:Defensa de Tesis
END:VEVENT
BEGIN:VEVENT
DTSTART;TZID=America/Halifax:20231005T160000
DTEND;TZID=America/Halifax:20231005T170000
DTSTAMP:20260421T100649
CREATED:20231003T155145Z
LAST-MODIFIED:20231003T155421Z
UID:6805-1696521600-1696525200@ei-uagrm.edu.bo
SUMMARY:Diseño óptimo de canales de drenaje revestidos en carreteras\, análisis hidráulico estructural
DESCRIPTION:Tema de tesis: Diseño óptimo de canales de drenaje revestidos en carreteras\, análisis hidráulico estructural \nPostgraduante:  Edwin Alejandro Sánchez Rioja \nMaestría: Ingeniería de Carreteras \nHora: 16:00 \nLugar:  Escuela de Ingeniería Aula 8
URL:https://ei-uagrm.edu.bo/evento/defensadetesis/
LOCATION:Aula 8 – Escuela de Ingeniería
CATEGORIES:Defensa de Tesis
END:VEVENT
BEGIN:VEVENT
DTSTART;VALUE=DATE:20230921
DTEND;VALUE=DATE:20230923
DTSTAMP:20260421T100649
CREATED:20230830T153902Z
LAST-MODIFIED:20230830T153902Z
UID:6768-1695254400-1695427199@ei-uagrm.edu.bo
SUMMARY:Reunión Tecnica de Direcciones de Investigación Ciencia y Tecnología RETEC del CEUB
DESCRIPTION:
URL:https://ei-uagrm.edu.bo/evento/retecceub/
LOCATION:Salón Auditorio – Escuela de Ingeniería
CATEGORIES:Eventos Salón Auditorio
END:VEVENT
BEGIN:VEVENT
DTSTART;TZID=America/Halifax:20230912T190000
DTEND;TZID=America/Halifax:20230912T210000
DTSTAMP:20260421T100649
CREATED:20230906T215809Z
LAST-MODIFIED:20230906T215809Z
UID:6801-1694545200-1694552400@ei-uagrm.edu.bo
SUMMARY:Foro "Reforma a la Ley de Pensiones y el Rol de la Gestora Publica"
DESCRIPTION:
URL:https://ei-uagrm.edu.bo/evento/foro-reforma-a-la-ley-de-pensiones-y-el-rol-de-la-gestora-publica/
LOCATION:Salón Auditorio – Escuela de Ingeniería
CATEGORIES:Eventos Salón Auditorio
END:VEVENT
BEGIN:VEVENT
DTSTART;TZID=America/Halifax:20230905T190000
DTEND;TZID=America/Halifax:20230905T210000
DTSTAMP:20260421T100649
CREATED:20230830T154243Z
LAST-MODIFIED:20230830T154243Z
UID:6770-1693940400-1693947600@ei-uagrm.edu.bo
SUMMARY:Conferencia "El Secreto de la Gestión Japonés"
DESCRIPTION:
URL:https://ei-uagrm.edu.bo/evento/conferenciajica/
LOCATION:Salón Auditorio – Escuela de Ingeniería
CATEGORIES:Eventos Salón Auditorio
END:VEVENT
BEGIN:VEVENT
DTSTART;TZID=America/Halifax:20230904T090000
DTEND;TZID=America/Halifax:20230904T140000
DTSTAMP:20260421T100649
CREATED:20230830T154735Z
LAST-MODIFIED:20230830T154735Z
UID:6772-1693818000-1693836000@ei-uagrm.edu.bo
SUMMARY:3era Jornada Academica Docente de la Carrera de Ciencias de la Comunicación de la Facultad de Humanidades
DESCRIPTION:
URL:https://ei-uagrm.edu.bo/evento/jornadacademica3/
LOCATION:Aula 9 – Escuela de Ingeniería\, Av. Busch\, entre 2do y 3er anillo\, Santa Cruz de la Sierra\, Bolivia
CATEGORIES:Eventos Salón Auditorio
END:VEVENT
BEGIN:VEVENT
DTSTART;TZID=America/Halifax:20230721T114000
DTEND;TZID=America/Halifax:20230721T123000
DTSTAMP:20260421T100649
CREATED:20230720T135404Z
LAST-MODIFIED:20230720T135404Z
UID:6630-1689939600-1689942600@ei-uagrm.edu.bo
SUMMARY:Estudio del Rendimiento y Caracterización Fisicoquímica de Biodiesel a Partir de Grasa de Pollo Variando la Relación Metanol/Aceite
DESCRIPTION:
URL:https://ei-uagrm.edu.bo/evento/defensadetesis7/
LOCATION:Aula 8 – Escuela de Ingeniería
CATEGORIES:Defensa de Tesis
END:VEVENT
BEGIN:VEVENT
DTSTART;TZID=America/Halifax:20230721T110000
DTEND;TZID=America/Halifax:20230721T114000
DTSTAMP:20260421T100649
CREATED:20230720T135228Z
LAST-MODIFIED:20230720T135228Z
UID:6628-1689937200-1689939600@ei-uagrm.edu.bo
SUMMARY:Estudio del Rendimiento y Parámetros de Calidad Fisicoquímicos del Biodiesel Obtenido a Partir del Aceite de Oliva Usado con Catalizador Hidróxido de Potasio (KOH)
DESCRIPTION:
URL:https://ei-uagrm.edu.bo/evento/defensadetesis6/
LOCATION:Aula 8 – Escuela de Ingeniería
CATEGORIES:Defensa de Tesis
END:VEVENT
BEGIN:VEVENT
DTSTART;TZID=America/Halifax:20230721T102000
DTEND;TZID=America/Halifax:20230721T110000
DTSTAMP:20260421T100649
CREATED:20230720T135027Z
LAST-MODIFIED:20230720T135027Z
UID:6626-1689934800-1689937200@ei-uagrm.edu.bo
SUMMARY:Estudio del Rendimiento y la Caracterización del Biodiesel a Partir de Aceite de Oliva Extra Virgen con Catálisis Básica en Función a la Variación de la Temperatura
DESCRIPTION:
URL:https://ei-uagrm.edu.bo/evento/defensadetesis5/
LOCATION:Aula 8 – Escuela de Ingeniería
CATEGORIES:Defensa de Tesis
END:VEVENT
BEGIN:VEVENT
DTSTART;TZID=America/Halifax:20230721T094000
DTEND;TZID=America/Halifax:20230721T102000
DTSTAMP:20260421T100649
CREATED:20230720T134201Z
LAST-MODIFIED:20230720T134218Z
UID:6620-1689932400-1689934800@ei-uagrm.edu.bo
SUMMARY:Estudio del Rendimiento y Caracterización del Biodiesel a Partir de Grasa de Pollo en Función a la Variación de los Tiempos de Agitación
DESCRIPTION:
URL:https://ei-uagrm.edu.bo/evento/defensadetesis3/
LOCATION:Aula 8 – Escuela de Ingeniería
CATEGORIES:Defensa de Tesis
END:VEVENT
BEGIN:VEVENT
DTSTART;TZID=America/Halifax:20230721T090000
DTEND;TZID=America/Halifax:20230721T094000
DTSTAMP:20260421T100649
CREATED:20230720T133545Z
LAST-MODIFIED:20230720T133545Z
UID:6612-1689930000-1689932400@ei-uagrm.edu.bo
SUMMARY:Estudio del Efecto De La Concentración Del Catalizador En La Determinación Del Rendimiento de la Obtención de Biodiesel a Partir de Aceite de Ricino
DESCRIPTION:
URL:https://ei-uagrm.edu.bo/evento/defensadetesis2/
CATEGORIES:Defensa de Tesis
END:VEVENT
BEGIN:VEVENT
DTSTART;TZID=America/Halifax:20230714T090000
DTEND;TZID=America/Halifax:20230714T100000
DTSTAMP:20260421T100649
CREATED:20230706T143818Z
LAST-MODIFIED:20230706T143818Z
UID:6546-1689325200-1689328800@ei-uagrm.edu.bo
SUMMARY:Informe de Gestión
DESCRIPTION:
URL:https://ei-uagrm.edu.bo/evento/informe-de-gestion/
CATEGORIES:Eventos Salón Auditorio
END:VEVENT
BEGIN:VEVENT
DTSTART;TZID=America/Halifax:20230629T190000
DTEND;TZID=America/Halifax:20230629T210000
DTSTAMP:20260421T100649
CREATED:20230622T202544Z
LAST-MODIFIED:20230622T202544Z
UID:6378-1688065200-1688072400@ei-uagrm.edu.bo
SUMMARY:Problemática de Gestión de la cuenca del rio piraí
DESCRIPTION:
URL:https://ei-uagrm.edu.bo/evento/gestion-de-la-cuenca-del-rio-pirai/
CATEGORIES:Eventos Salón Auditorio
END:VEVENT
BEGIN:VEVENT
DTSTART;TZID=America/Halifax:20230622T190000
DTEND;TZID=America/Halifax:20230622T210000
DTSTAMP:20260421T100649
CREATED:20230622T201518Z
LAST-MODIFIED:20230622T201518Z
UID:6376-1687460400-1687467600@ei-uagrm.edu.bo
SUMMARY:Debate de 3 propuestas de ley sobre la Gestora Pública
DESCRIPTION:
URL:https://ei-uagrm.edu.bo/evento/propuestas-de-ley-sobre-la-gestora-publica/
CATEGORIES:Eventos Salón Auditorio
END:VEVENT
BEGIN:VEVENT
DTSTART;VALUE=DATE:20230606
DTEND;VALUE=DATE:20230607
DTSTAMP:20260421T100649
CREATED:20230616T154957Z
LAST-MODIFIED:20230616T154957Z
UID:6108-1686009600-1686095999@ei-uagrm.edu.bo
SUMMARY:II Conferencia Nacional en Bolivia – INNOVA
DESCRIPTION:
URL:https://ei-uagrm.edu.bo/evento/ii-conferencia-nacional-en-bolivia-innova/
END:VEVENT
END:VCALENDAR